BEGIN:VCALENDAR
VERSION:2.0
PRODID:-//Somerset County Health Department - ECPv6.15.0//NONSGML v1.0//EN
CALSCALE:GREGORIAN
METHOD:PUBLISH
X-WR-CALNAME:Somerset County Health Department
X-ORIGINAL-URL:https://somersethealth.org
X-WR-CALDESC:Events for Somerset County Health Department
REFRESH-INTERVAL;VALUE=DURATION:PT1H
X-Robots-Tag:noindex
X-PUBLISHED-TTL:PT1H
BEGIN:VTIMEZONE
TZID:America/New_York
BEGIN:DAYLIGHT
TZOFFSETFROM:-0500
TZOFFSETTO:-0400
TZNAME:EDT
DTSTART:20220313T070000
END:DAYLIGHT
BEGIN:STANDARD
TZOFFSETFROM:-0400
TZOFFSETTO:-0500
TZNAME:EST
DTSTART:20221106T060000
END:STANDARD
END:VTIMEZONE
BEGIN:VEVENT
DTSTART;TZID=America/New_York:20220906T150000
DTEND;TZID=America/New_York:20220906T160000
DTSTAMP:20260420T113545
CREATED:20220901T181319Z
LAST-MODIFIED:20220930T173554Z
UID:5915-1662476400-1662480000@somersethealth.org
SUMMARY:Tobacco Cessation Classes
DESCRIPTION:Smoking leads to disease\, disability\, and harms nearly every organ in the body. Beginning September 6 and September 7\, the Somerset County Health Department will be hosting adult smoking cessation classes at different locations in the county.  \nThe Smoking Cessation Program is a 10-week program to help individuals quit using tobacco products. With the assistance of a certified quit coach\, participants will develop their own personalized plan to help them reach their goals. The program includes 8 weekly core sessions followed by 2 additional support sessions. Participants will be provided with a cessation workbook and will also receive incentives for participating. Vouchers for free nicotine replacement therapy are also available to all participants.  \nThe program will be held in the following locations:  \n\nTuesdays\, 3:00pm – 4:00pm at the Princess Anne Library (11767 Beechwood St.\, Princess Anne\, MD) \nWednesdays\, 11:00am – 12:00pm at the Somerset Wellness and Recovery Center (11674 Somerset Avenue\, Princess Anne\, MD) \nWednesdays\, 3:00pm – 4:00pm at the Crisfield Library (100 Collins St.\, Crisfield\, MD) \n\nEligible participants must be 18 years or older and a current tobacco user. One-on-one virtual or in-person classes are available by appointment. For more information or to enroll in the program\, contact Alyssa Weston at alyssa.rink2@maryland.gov or call 443-523-1700.  \n### 
URL:https://somersethealth.org/calendar-event/tobacco-cessation-classes-3/2022-09-06/
LOCATION:Princess Anne Library\, 11767 Beechwood St\, Princess Anne\, MD\, 21853\, United States
ORGANIZER;CN="Somerset Co. Health Dept.":MAILTO:sharon.lynch@maryland.gov
END:VEVENT
END:VCALENDAR