BEGIN:VCALENDAR
VERSION:2.0
PRODID:-//Somerset County Health Department - ECPv6.15.0//NONSGML v1.0//EN
CALSCALE:GREGORIAN
METHOD:PUBLISH
X-ORIGINAL-URL:https://somersethealth.org
X-WR-CALDESC:Events for Somerset County Health Department
REFRESH-INTERVAL;VALUE=DURATION:PT1H
X-Robots-Tag:noindex
X-PUBLISHED-TTL:PT1H
BEGIN:VTIMEZONE
TZID:America/New_York
BEGIN:DAYLIGHT
TZOFFSETFROM:-0500
TZOFFSETTO:-0400
TZNAME:EDT
DTSTART:20220313T070000
END:DAYLIGHT
BEGIN:STANDARD
TZOFFSETFROM:-0400
TZOFFSETTO:-0500
TZNAME:EST
DTSTART:20221106T060000
END:STANDARD
END:VTIMEZONE
BEGIN:VEVENT
DTSTART;TZID=America/New_York:20221212T150000
DTEND;TZID=America/New_York:20221212T160000
DTSTAMP:20260421T071954
CREATED:20221212T162014Z
LAST-MODIFIED:20221212T162014Z
UID:6609-1670857200-1670860800@somersethealth.org
SUMMARY:Tobacco Cessation Classes
DESCRIPTION:Start your quit journey! Free tobacco cessation classes hosted by the Somerset County Health Department. Free vouchers for nicotine patches and gum available to eligible participants. 
URL:https://somersethealth.org/calendar-event/tobacco-cessation-classes-8/2022-12-12/
LOCATION:Princess Anne Library\, 11767 Beechwood St\, Princess Anne\, MD\, 21853\, United States
ORGANIZER;CN="Somerset Co. Health Dept.":MAILTO:sharon.lynch@maryland.gov
END:VEVENT
END:VCALENDAR