BEGIN:VCALENDAR
VERSION:2.0
PRODID:-//Somerset County Health Department - ECPv6.15.0//NONSGML v1.0//EN
CALSCALE:GREGORIAN
METHOD:PUBLISH
X-ORIGINAL-URL:https://somersethealth.org
X-WR-CALDESC:Events for Somerset County Health Department
REFRESH-INTERVAL;VALUE=DURATION:PT1H
X-Robots-Tag:noindex
X-PUBLISHED-TTL:PT1H
BEGIN:VTIMEZONE
TZID:America/New_York
BEGIN:DAYLIGHT
TZOFFSETFROM:-0500
TZOFFSETTO:-0400
TZNAME:EDT
DTSTART:20200308T070000
END:DAYLIGHT
BEGIN:STANDARD
TZOFFSETFROM:-0400
TZOFFSETTO:-0500
TZNAME:EST
DTSTART:20201101T060000
END:STANDARD
BEGIN:DAYLIGHT
TZOFFSETFROM:-0500
TZOFFSETTO:-0400
TZNAME:EDT
DTSTART:20210314T070000
END:DAYLIGHT
BEGIN:STANDARD
TZOFFSETFROM:-0400
TZOFFSETTO:-0500
TZNAME:EST
DTSTART:20211107T060000
END:STANDARD
END:VTIMEZONE
BEGIN:VEVENT
DTSTART;TZID=America/New_York:20211105T093000
DTEND;TZID=America/New_York:20211105T113000
DTSTAMP:20260424T040445
CREATED:20211028T192215Z
LAST-MODIFIED:20211028T192215Z
UID:4546-1636104600-1636111800@somersethealth.org
SUMMARY:COVID-19 Vaccination Clinic
DESCRIPTION:Offering 1st\, 2nd\, 3rd (additional) and booster doses. Offering Pfizer\, Moderna\, and J&J. Appointment required. Call 443-523-1920 to schedule. 
URL:https://somersethealth.org/calendar-event/covid-19-vaccination-clinic-38/
LOCATION:Somerset County Health Dept\, 8928 Sign Post Rd\, Westover\, MD\, 21871\, United States
ORGANIZER;CN="Somerset Co. Health Dept.":MAILTO:sharon.lynch@maryland.gov
END:VEVENT
BEGIN:VEVENT
DTSTART;TZID=America/New_York:20210922T113000
DTEND;TZID=America/New_York:20210922T153000
DTSTAMP:20260424T040445
CREATED:20210826T174137Z
LAST-MODIFIED:20210826T174137Z
UID:4211-1632310200-1632324600@somersethealth.org
SUMMARY:COVID-19 Vaccination Clinic
DESCRIPTION:Somerset MAC Center\, 8928 Sign Post Road\, Suite 3\, Westover. 11:30am – 3:30pm. FREE. Third Dose Moderna offered for immunocompromised individuals only. Pre-register by calling 443-523-1920. Walk-ins welcome. 
URL:https://somersethealth.org/calendar-event/covid-19-vaccination-clinic-33/
LOCATION:Somerset County MAC Center\, 8928 Sign Post Road\, Suite 3\, Westover\, MD\, 21871\, United States
ORGANIZER;CN="Somerset Co. Health Dept.":MAILTO:sharon.lynch@maryland.gov
END:VEVENT
BEGIN:VEVENT
DTSTART;TZID=America/New_York:20210817T093000
DTEND;TZID=America/New_York:20210817T113000
DTSTAMP:20260424T040445
CREATED:20210726T125740Z
LAST-MODIFIED:20210726T125740Z
UID:4004-1629192600-1629199800@somersethealth.org
SUMMARY:COVID-19 Testing
DESCRIPTION:FREE COVID-19 Testing! No appointment necessary. 
URL:https://somersethealth.org/calendar-event/covid-19-testing-19/
LOCATION:Somerset County Health Dept\, 8928 Sign Post Rd\, Westover\, MD\, 21871\, United States
ORGANIZER;CN="Somerset Co. Health Dept.":MAILTO:sharon.lynch@maryland.gov
END:VEVENT
BEGIN:VEVENT
DTSTART;VALUE=DATE:20200902
DTEND;VALUE=DATE:20200903
DTSTAMP:20260424T040445
CREATED:20200828T125707Z
LAST-MODIFIED:20200828T125707Z
UID:2810-1599004800-1599091199@somersethealth.org
SUMMARY:Child Immunization clinic
DESCRIPTION:Free child immunization clinic for chicken pox\, meningococcal\, and TDAP \nAppointment is required.  Call 443-523-1700
URL:https://somersethealth.org/calendar-event/child-immunization-clinic/2020-09-02/
LOCATION:Somerset County Health Dept\, 8928 Sign Post Rd\, Westover\, MD\, 21871\, United States
ORGANIZER;CN="Somerset Co. Health Dept.":MAILTO:sharon.lynch@maryland.gov
END:VEVENT
BEGIN:VEVENT
DTSTART;TZID=America/New_York:20200121T090000
DTEND;TZID=America/New_York:20200121T160000
DTSTAMP:20260424T040445
CREATED:20191231T183710Z
LAST-MODIFIED:20191231T183740Z
UID:2123-1579597200-1579622400@somersethealth.org
SUMMARY:Flu Vaccination Clinic
DESCRIPTION:
URL:https://somersethealth.org/calendar-event/flu-vaccination-clinic/
LOCATION:Flu Clinic\, 8928 Sign Post Rd\, Westover\, MD\, 21871\, United States
ORGANIZER;CN="Somerset Co. Health Dept.":MAILTO:sharon.lynch@maryland.gov
END:VEVENT
END:VCALENDAR