BEGIN:VCALENDAR
VERSION:2.0
PRODID:-//Somerset County Health Department - ECPv6.15.0//NONSGML v1.0//EN
CALSCALE:GREGORIAN
METHOD:PUBLISH
X-WR-CALNAME:Somerset County Health Department
X-ORIGINAL-URL:https://somersethealth.org
X-WR-CALDESC:Events for Somerset County Health Department
REFRESH-INTERVAL;VALUE=DURATION:PT1H
X-Robots-Tag:noindex
X-PUBLISHED-TTL:PT1H
BEGIN:VTIMEZONE
TZID:America/New_York
BEGIN:DAYLIGHT
TZOFFSETFROM:-0500
TZOFFSETTO:-0400
TZNAME:EDT
DTSTART:20200308T070000
END:DAYLIGHT
BEGIN:STANDARD
TZOFFSETFROM:-0400
TZOFFSETTO:-0500
TZNAME:EST
DTSTART:20201101T060000
END:STANDARD
BEGIN:DAYLIGHT
TZOFFSETFROM:-0500
TZOFFSETTO:-0400
TZNAME:EDT
DTSTART:20210314T070000
END:DAYLIGHT
BEGIN:STANDARD
TZOFFSETFROM:-0400
TZOFFSETTO:-0500
TZNAME:EST
DTSTART:20211107T060000
END:STANDARD
END:VTIMEZONE
BEGIN:VEVENT
DTSTART;TZID=America/New_York:20211108T150000
DTEND;TZID=America/New_York:20211108T180000
DTSTAMP:20260420T060712
CREATED:20211104T183701Z
LAST-MODIFIED:20211104T183701Z
UID:4631-1636383600-1636394400@somersethealth.org
SUMMARY:Woodson Elementary (5-11) COVID-19 Vaccination Clinic
DESCRIPTION:3pm – 6pm. A parent or legal guardian must be present. Youth enrolled in any public Somerset County school are eligible to receive a Pfizer vaccination. 
URL:https://somersethealth.org/calendar-event/woodson-elementary-5-11-covid-19-vaccination-clinic/
LOCATION:Woodson Elementary School\, 281 Woodson School Road\, Crisfield\, MD\, 21817\, United States
ORGANIZER;CN="Somerset Co. Health Dept.":MAILTO:sharon.lynch@maryland.gov
END:VEVENT
BEGIN:VEVENT
DTSTART;TZID=America/New_York:20201014T163000
DTEND;TZID=America/New_York:20201014T180000
DTSTAMP:20260420T060712
CREATED:20201007T153259Z
LAST-MODIFIED:20201007T153259Z
UID:2904-1602693000-1602698400@somersethealth.org
SUMMARY:Children's Flu vaccination clinic
DESCRIPTION:For Somerset County School age children \nFree.  By appointment \ncall for questions at 443.523.1700
URL:https://somersethealth.org/calendar-event/childrens-flu-vaccination-clinic/
LOCATION:Woodson Elementary School\, 281 Woodson School Road\, Crisfield\, MD\, 21817\, United States
ORGANIZER;CN="Somerset Co. Health Dept.":MAILTO:sharon.lynch@maryland.gov
END:VEVENT
END:VCALENDAR